Workbook

Sheet ZSIO - analityka
A1: Numer | B1: Bilans otwarcia wn | C1: Bilans otwarcia ma | D1: Obroty winien | E1: Obroty ma | F1: Saldo winien | G1: Saldo ma
A2: 010-00 | B2: 291532 | C2: 0 | D2: 0 | E2: 0 | F2: 291532 | G2: 0
A3: 010-01 | B3: 4627941.8 | C3: 0 | D3: 41826.5 | E3: 0 | F3: 4669768.3 | G3: 0
A4: 010-02 | B4: 80814.35 | C4: 0 | D4: 0 | E4: 0 | F4: 80814.35 | G4: 0
A5: 010-04 | B5: 2567080.3 | C5: 0 | D5: 83660.22 | E5: 0 | F5: 2650740.5 | G5: 0
A6: 010-05 | B6: 115843.45 | C6: 0 | D6: 0 | E6: 0 | F6: 115843.45 | G6: 0
A7: 010-06 | B7: 393154.84 | C7: 0 | D7: 55501.33 | E7: 0 | F7: 448656.17 | G7: 0
A8: 010-07 | B8: 98983.56 | C8: 0 | D8: 0 | E8: 0 | F8: 98983.56 | G8: 0
A9: 010-08 | B9: 176408.34 | C9: 0 | D9: 15100.39 | E9: 0 | F9: 191508.73 | G9: 0
A10: 011-04 | B10: 59500 | C10: 0 | D10: 0 | E10: 0 | F10: 59500 | G10: 0
A11: 011-06 | B11: 506334.9 | C11: 0 | D11: 0 | E11: 0 | F11: 506334.9 | G11: 0
A12: 012-04 | B12: 32600 | C12: 0 | D12: 0 | E12: 0 | F12: 32600 | G12: 0
A13: 013-04 | B13: 6707825 | C13: 0 | D13: 0 | E13: 0 | F13: 6707825 | G13: 0
... A945: 860 | B945: 0 | C945: 1198230.5 | D945: 24862287 | E945: 24834163 | F945: 0 | G945: 1170106.4

Sheet ZSiO - syntetyka
A1: Numer | B1: Bilans otwarcia wn | C1: Bilans otwarcia ma | D1: Obroty winien | E1: Obroty ma | F1: Saldo winien | G1: Saldo ma
A2: 010 | B2: 8351758.7 | C2: 0 | D2: 196088.44 | E2: 0 | F2: 8547847.1 | G2: 0
A3: 011 | B3: 565834.9 | C3: 0 | D3: 0 | E3: 0 | F3: 565834.9 | G3: 0
A4: 012 | B4: 32600 | C4: 0 | D4: 0 | E4: 0 | F4: 32600 | G4: 0
A5: 013 | B5: 6707825 | C5: 0 | D5: 0 | E5: 0 | F5: 6707825 | G5: 0
A6: 014 | B6: 6961035.4 | C6: 0 | D6: 1619239.6 | E6: 0 | F6: 8580275 | G6: 0
A7: 015 | B7: 2942475.8 | C7: 0 | D7: 0 | E7: 0 | F7: 2942475.8 | G7: 0
A8: 016 | B8: 180188.25 | C8: 0 | D8: 13929.89 | E8: 0 | F8: 194118.14 | G8: 0
A9: 017 | B9: 0 | C9: 0 | D9: 51400 | E9: 0 | F9: 51400 | G9: 0
A10: 018 | B10: 0 | C10: 0 | D10: 702640 | E10: 0 | F10: 702640 | G10: 0
A11: 020 | B11: 274750.52 | C11: 0 | D11: 1424339.2 | E11: 0 | F11: 1699089.7 | G11: 0
A12: 021 | B12: 616120.08 | C12: 0 | D12: 0 | E12: 0 | F12: 616120.08 | G12: 0
A13: 022 | B13: 342320 | C13: 0 | D13: 0 | E13: 0 | F13: 342320 | G13: 0
... A101: 860 | B101: 0 | C101: 1198230.5 | D101: 24862287 | E101: 24834163 | F101: 0 | G101: 1170106.4

Sheet etap1
A1: Numer syntetyki | B1: Numer | C1: Bilans otwarcia wn | D1: Bilans otwarcia ma | E1: Obroty winien | F1: Obroty ma | G1: Saldo winien | H1: Saldo ma
A2: =LEFT(B2,3) -> 010 | B2: 010-00 | C2: 291532 | D2: 0 | E2: 0 | F2: 0 | G2: 291532 | H2: 0
A3: =LEFT(B3,3) -> 010 | B3: 010-01 | C3: 4627941.8 | D3: 0 | E3: 41826.5 | F3: 0 | G3: 4669768.3 | H3: 0
A4: =LEFT(B4,3) -> 010 | B4: 010-02 | C4: 80814.35 | D4: 0 | E4: 0 | F4: 0 | G4: 80814.35 | H4: 0
A5: =LEFT(B5,3) -> 010 | B5: 010-04 | C5: 2567080.3 | D5: 0 | E5: 83660.22 | F5: 0 | G5: 2650740.5 | H5: 0
A6: =LEFT(B6,3) -> 010 | B6: 010-05 | C6: 115843.45 | D6: 0 | E6: 0 | F6: 0 | G6: 115843.45 | H6: 0
A7: =LEFT(B7,3) -> 010 | B7: 010-06 | C7: 393154.84 | D7: 0 | E7: 55501.33 | F7: 0 | G7: 448656.17 | H7: 0
A8: =LEFT(B8,3) -> 010 | B8: 010-07 | C8: 98983.56 | D8: 0 | E8: 0 | F8: 0 | G8: 98983.56 | H8: 0
A9: =LEFT(B9,3) -> 010 | B9: 010-08 | C9: 176408.34 | D9: 0 | E9: 15100.39 | F9: 0 | G9: 191508.73 | H9: 0
A10: =LEFT(B10,3) -> 011 | B10: 011-04 | C10: 59500 | D10: 0 | E10: 0 | F10: 0 | G10: 59500 | H10: 0
A11: =LEFT(B11,3) -> 011 | B11: 011-06 | C11: 506334.9 | D11: 0 | E11: 0 | F11: 0 | G11: 506334.9 | H11: 0
A12: =LEFT(B12,3) -> 012 | B12: 012-04 | C12: 32600 | D12: 0 | E12: 0 | F12: 0 | G12: 32600 | H12: 0
A13: =LEFT(B13,3) -> 013 | B13: 013-04 | C13: 6707825 | D13: 0 | E13: 0 | F13: 0 | G13: 6707825 | H13: 0
... A945: =LEFT(B945,3) -> 860 | B945: 860 | C945: 0 | D945: 1198230.5 | E945: 24862287 | F945: 24834163 | G945: 0 | H945: 1170106.4

Sheet etap2
A2: Etykiety wierszy | B2: Suma z Obroty winien | C2: Suma z Obroty ma
A3: 010 | B3: 196088.44 | C3: 0
A4: 011 | B4: 0 | C4: 0
A5: 012 | B5: 0 | C5: 0
A6: 013 | B6: 0 | C6: 0
A7: 014 | B7: 1617883.6 | C7: 0
A8: 015 | B8: 0 | C8: 0
A9: 016 | B9: 15285.89 | C9: 0
A10: 017 | B10: 51400 | C10: 0
A11: 018 | B11: 702640 | C11: 0
A12: 020 | B12: 1424339.2 | C12: 0
A13: 021 | B13: 0 | C13: 0
A14: 022 | B14: 0 | C14: 0
... A103: Suma końcowa | B103: 2.5910302e+08 | C103: 2.5910302e+08

Sheet etap3
A1: Numer | B1: Obroty winien | C1: Obroty ma | D1: Obroty WN wyliczone | E1: Obroty MA wyliczone | F1: Zgodność WN | G1: Zgodność MA
A2: 010 | B2: 196088.44 | C2: 0 | D2: =VLOOKUP(A2,etap2!$A$3:$C$102,2,0) -> 196088.44 | E2: =VLOOKUP(A2,etap2!$A$3:$C$102,3,0) -> 0 | F2: =B2=D2 -> TRUE | G2: =C2=E2 -> TRUE
A3: 011 | B3: 0 | C3: 0 | D3: =VLOOKUP(A3,etap2!$A$3:$C$102,2,0) -> 0 | E3: =VLOOKUP(A3,etap2!$A$3:$C$102,3,0) -> 0 | F3: =B3=D3 -> TRUE | G3: =C3=E3 -> TRUE
A4: 012 | B4: 0 | C4: 0 | D4: =VLOOKUP(A4,etap2!$A$3:$C$102,2,0) -> 0 | E4: =VLOOKUP(A4,etap2!$A$3:$C$102,3,0) -> 0 | F4: =B4=D4 -> TRUE | G4: =C4=E4 -> TRUE
A5: 013 | B5: 0 | C5: 0 | D5: =VLOOKUP(A5,etap2!$A$3:$C$102,2,0) -> 0 | E5: =VLOOKUP(A5,etap2!$A$3:$C$102,3,0) -> 0 | F5: =B5=D5 -> TRUE | G5: =C5=E5 -> TRUE
A6: 014 | B6: 1619239.6 | C6: 0 | D6: =VLOOKUP(A6,etap2!$A$3:$C$102,2,0) -> 1617883.6 | E6: =VLOOKUP(A6,etap2!$A$3:$C$102,3,0) -> 0 | F6: =B6=D6 -> FALSE | G6: =C6=E6 -> TRUE
A7: 015 | B7: 0 | C7: 0 | D7: =VLOOKUP(A7,etap2!$A$3:$C$102,2,0) -> 0 | E7: =VLOOKUP(A7,etap2!$A$3:$C$102,3,0) -> 0 | F7: =B7=D7 -> TRUE | G7: =C7=E7 -> TRUE
A8: 016 | B8: 13929.89 | C8: 0 | D8: =VLOOKUP(A8,etap2!$A$3:$C$102,2,0) -> 15285.89 | E8: =VLOOKUP(A8,etap2!$A$3:$C$102,3,0) -> 0 | F8: =B8=D8 -> FALSE | G8: =C8=E8 -> TRUE
A9: 017 | B9: 51400 | C9: 0 | D9: =VLOOKUP(A9,etap2!$A$3:$C$102,2,0) -> 51400 | E9: =VLOOKUP(A9,etap2!$A$3:$C$102,3,0) -> 0 | F9: =B9=D9 -> TRUE | G9: =C9=E9 -> TRUE
A10: 018 | B10: 702640 | C10: 0 | D10: =VLOOKUP(A10,etap2!$A$3:$C$102,2,0) -> 702640 | E10: =VLOOKUP(A10,etap2!$A$3:$C$102,3,0) -> 0 | F10: =B10=D10 -> TRUE | G10: =C10=E10 -> TRUE
A11: 020 | B11: 1424339.2 | C11: 0 | D11: =VLOOKUP(A11,etap2!$A$3:$C$102,2,0) -> 1424339.2 | E11: =VLOOKUP(A11,etap2!$A$3:$C$102,3,0) -> 0 | F11: =B11=D11 -> TRUE | G11: =C11=E11 -> TRUE
A12: 021 | B12: 0 | C12: 0 | D12: =VLOOKUP(A12,etap2!$A$3:$C$102,2,0) -> 0 | E12: =VLOOKUP(A12,etap2!$A$3:$C$102,3,0) -> 0 | F12: =B12=D12 -> TRUE | G12: =C12=E12 -> TRUE
A13: 022 | B13: 0 | C13: 0 | D13: =VLOOKUP(A13,etap2!$A$3:$C$102,2,0) -> 0 | E13: =VLOOKUP(A13,etap2!$A$3:$C$102,3,0) -> 0 | F13: =B13=D13 -> TRUE | G13: =C13=E13 -> TRUE
... A101: 860 | B101: 24862287 | C101: 24834163 | D101: =VLOOKUP(A101,etap2!$A$3:$C$102,2,0) -> 24862287 | E101: =VLOOKUP(A101,etap2!$A$3:$C$102,3,0) -> 24834163 | F101: =B101=D101 -> TRUE | G101: =C101=E101 -> TRUE
